BEGIN:VCALENDAR
VERSION:2.0
PRODID:-//Tukios.com/
BEGIN:VEVENT
UID:551dc008-314e-46cc-ac68-d8296693af57@www.mynattfh.com
DTSTAMP:20260422T213245Z
DTSTART:20260424T180000Z
DTEND:20260424T190000Z
SUMMARY:Graveside Service
DESCRIPTION:
URL:https://www.mynattfh.com/obituaries/rev-richie-turner
LOCATION:    TN 
GEO:35.5174913;-86.5804473
END:VEVENT
END:VCALENDAR