BEGIN:VCALENDAR
VERSION:2.0
PRODID:-//Tukios.com/
BEGIN:VEVENT
UID:7506d712-c0b2-4201-8236-7eb87681bb77@www.mynattfh.com
DTSTAMP:20260421T202118Z
DTSTART:20260424T160000Z
DTEND:20260424T170000Z
SUMMARY:Graveside Service
DESCRIPTION:
URL:https://www.mynattfh.com/obituaries/margie-berney
LOCATION:Cedar Grove Baptist Church Cemetery 9711 Cedar Grove Church Rd  
	Powell TN 37849
GEO:36.1252249;-83.9982751
END:VEVENT
END:VCALENDAR