BEGIN:VCALENDAR
VERSION:2.0
PRODID:-//Tukios.com/
BEGIN:VEVENT
UID:999543a6-6d25-4ed6-831d-8fc2b6819af4@www.mynattfh.com
DTSTAMP:20260421T201831Z
DTSTART:20260423T150000Z
DTEND:20260423T220000Z
SUMMARY:Call at Convenience
DESCRIPTION:
URL:https://www.mynattfh.com/obituaries/margie-berney
LOCATION:Mynatt Funeral Home, Halls Chapel 4131 East Emory Road  
	Knoxville TN 37938
GEO:36.0856656;-83.931194
END:VEVENT
END:VCALENDAR