BEGIN:VCALENDAR
VERSION:2.0
PRODID:-//Tukios.com/
BEGIN:VEVENT
UID:8d260fe5-2b7b-4905-9e29-fd0f3e4e4b11@www.mynattfh.com
DTSTAMP:20260420T022618Z
DTSTART:20260424T150000Z
DTEND:20260424T160000Z
SUMMARY:Interment
DESCRIPTION:
URL:https://www.mynattfh.com/obituaries/lynda-wright
LOCATION: 7420 Clapps Chapel Rd  Corryton TN 37721
GEO:36.1247349;-83.8405885
END:VEVENT
END:VCALENDAR