BEGIN:VCALENDAR
VERSION:2.0
PRODID:-//Tukios.com/
BEGIN:VEVENT
UID:aff12103-bdf5-4dfb-bf3d-77b8547d3b06@www.mynattfh.com
DTSTAMP:20260420T023726Z
DTSTART:20260423T230000Z
DTEND:20260424T000000Z
SUMMARY:Funeral Service
DESCRIPTION:
URL:https://www.mynattfh.com/obituaries/lynda-wright
LOCATION: 7420 Clapps Chapel Rd  Corryton TN 37721
GEO:36.1247349;-83.8405885
END:VEVENT
END:VCALENDAR