BEGIN:VCALENDAR
VERSION:2.0
PRODID:-//Tukios.com/
BEGIN:VEVENT
UID:323f2a81-ab3d-4308-9317-0d6c052e6507@www.mynattfh.com
DTSTAMP:20260420T023725Z
DTSTART:20260423T213000Z
DTEND:20260423T230000Z
SUMMARY:Visitation
DESCRIPTION:
URL:https://www.mynattfh.com/obituaries/lynda-wright
LOCATION:Clapps Chapel Church 7420 Clapps Chapel Rd  Corryton TN 37721
GEO:36.1247349;-83.8405885
END:VEVENT
END:VCALENDAR