BEGIN:VCALENDAR
VERSION:2.0
PRODID:-//Tukios.com/
BEGIN:VEVENT
UID:b94743a7-7c79-49a9-91e8-9bac644e8d7e@www.mynattfh.com
DTSTAMP:20260423T002730Z
DTSTART:20260423T150000Z
DTEND:20260423T230000Z
SUMMARY:Visitation
DESCRIPTION:
URL:https://www.mynattfh.com/obituaries/joyce-fay-davis
LOCATION: 2829 Rennoc Rd  Knoxville TN 37918
GEO:36.0313214;-83.9281559
END:VEVENT
END:VCALENDAR