BEGIN:VCALENDAR
VERSION:2.0
PRODID:-//Tukios.com/
BEGIN:VEVENT
UID:0ae15d8f-3ddf-4359-87c6-60d7f224ea5a@www.mynattfh.com
DTSTAMP:20260423T003456Z
DTSTART:20260424T150000Z
DTEND:20260424T160000Z
SUMMARY:Graveside Service
DESCRIPTION:
URL:https://www.mynattfh.com/obituaries/joyce-fay-davis
LOCATION:Lynnhurst Cemetery 2300 Adair Dr  Knoxville TN 37918
GEO:36.0229431;-83.9293412
END:VEVENT
END:VCALENDAR