BEGIN:VCALENDAR
VERSION:2.0
PRODID:-//Tukios.com/
BEGIN:VEVENT
UID:cd715201-d180-4315-b2f9-b5c361c6ede7@www.mynattfh.com
DTSTAMP:20260423T162433Z
DTSTART:20260509T150000Z
DTEND:20260509T180000Z
SUMMARY:Visitation
DESCRIPTION:
URL:https://www.mynattfh.com/obituaries/john-czachowski
LOCATION:Mynatt Funeral Home, Powell Chapel 2000 Powell Drive  Powell TN 
	37849
GEO:36.0298641;-84.023645
END:VEVENT
END:VCALENDAR