BEGIN:VCALENDAR
VERSION:2.0
PRODID:-//Tukios.com/
BEGIN:VEVENT
UID:17f7afb2-5d51-401d-bd2f-8009939e705b@www.mynattfh.com
DTSTAMP:20260423T162703Z
DTSTART:20260509T180000Z
DTEND:20260509T190000Z
SUMMARY:Celebration of Life
DESCRIPTION:
URL:https://www.mynattfh.com/obituaries/john-czachowski
LOCATION: 2000 Powell Drive  Powell TN 37849
GEO:36.0298641;-84.023645
END:VEVENT
END:VCALENDAR