BEGIN:VCALENDAR
VERSION:2.0
PRODID:-//Tukios.com/
BEGIN:VEVENT
UID:8d506f67-7d06-48eb-bfef-d02b60f23e6a@www.mynattfh.com
DTSTAMP:20260421T195953Z
DTSTART:20260426T200000Z
DTEND:20260426T210000Z
SUMMARY:Graveside Service
DESCRIPTION:
URL:https://www.mynattfh.com/obituaries/jennifer-kerr
LOCATION: 7212 Central Ave Pike  Powell TN 37849
GEO:36.0373449;-84.0015432
END:VEVENT
END:VCALENDAR