BEGIN:VCALENDAR
VERSION:2.0
PRODID:-//Tukios.com/
BEGIN:VEVENT
UID:d727f664-b70f-47ef-8f2a-52c9b00e5fbe@www.mynattfh.com
DTSTAMP:20260425T231939Z
DTSTART:20260502T230000Z
DTEND:20260503T000000Z
SUMMARY:Celebration of Life
DESCRIPTION:
URL:https://www.mynattfh.com/obituaries/henry-walker
LOCATION: 4131 E Emory Rd  Knoxville TN 37938
GEO:36.0855757;-83.9312072
END:VEVENT
END:VCALENDAR