BEGIN:VCALENDAR
VERSION:2.0
PRODID:-//Tukios.com/
BEGIN:VEVENT
UID:66e67ddc-0746-4a3d-8fda-d011d35a9c39@www.mynattfh.com
DTSTAMP:20260425T231903Z
DTSTART:20260502T210000Z
DTEND:20260502T230000Z
SUMMARY:Visitation
DESCRIPTION:
URL:https://www.mynattfh.com/obituaries/henry-walker
LOCATION: 4131 E Emory Rd  Knoxville TN 37938
GEO:36.0855757;-83.9312072
END:VEVENT
END:VCALENDAR