BEGIN:VCALENDAR
VERSION:2.0
PRODID:-//Tukios.com/
BEGIN:VEVENT
UID:6ddd19ef-de94-4ef2-bab9-b6bcde06ed88@www.mynattfh.com
DTSTAMP:20260422T184442Z
DTSTART:20260425T180000Z
DTEND:20260425T190000Z
SUMMARY:Graveside Service
DESCRIPTION:
URL:https://www.mynattfh.com/obituaries/gerald-breeden
LOCATION: 2920 Roseberry Rd  Mascot TN 37806
GEO:36.081109;-83.7601283
END:VEVENT
END:VCALENDAR