BEGIN:VCALENDAR
VERSION:2.0
PRODID:-//Tukios.com/
BEGIN:VEVENT
UID:ef206bec-6aea-4ca5-b1d0-be1c020a2f2a@www.mynattfh.com
DTSTAMP:20260422T184959Z
DTSTART:20260424T230000Z
DTEND:20260425T000000Z
SUMMARY:Funeral Service
DESCRIPTION:
URL:https://www.mynattfh.com/obituaries/gerald-breeden
LOCATION: 2829 Rennoc Rd  Knoxville TN 37918
GEO:36.0313534;-83.9281914
END:VEVENT
END:VCALENDAR