BEGIN:VCALENDAR
VERSION:2.0
PRODID:-//Tukios.com/
BEGIN:VEVENT
UID:e6f7ae98-76d7-4d4a-9065-eebd83fe38cc@www.mynattfh.com
DTSTAMP:20260422T184826Z
DTSTART:20260424T210000Z
DTEND:20260424T230000Z
SUMMARY:Visitation
DESCRIPTION:
URL:https://www.mynattfh.com/obituaries/gerald-breeden
LOCATION: 2829 Rennoc Rd  Knoxville TN 37918
GEO:36.0313534;-83.9281914
END:VEVENT
END:VCALENDAR