BEGIN:VCALENDAR
VERSION:2.0
PRODID:-//Tukios.com/
BEGIN:VEVENT
UID:1340ae27-db53-434f-8e5a-3a83f03fadf7@www.mynattfh.com
DTSTAMP:20260422T184923Z
DTSTART:20260427T170000Z
DTEND:20260427T180000Z
SUMMARY:Graveside Service
DESCRIPTION:
URL:https://www.mynattfh.com/obituaries/albert-manis
LOCATION: Pollard Cemetery Rd.  Kodak TN 37764
GEO:35.9660738;-83.6446451
END:VEVENT
END:VCALENDAR