BEGIN:VCALENDAR
VERSION:2.0
PRODID:-//Tukios.com/
BEGIN:VEVENT
UID:096d84c3-6c4b-4fc7-aa97-aa7e2d2a7a3f@www.mynattfh.com
DTSTAMP:20260422T185245Z
DTSTART:20260426T230000Z
DTEND:20260427T000000Z
SUMMARY:Funeral Service
DESCRIPTION:
URL:https://www.mynattfh.com/obituaries/albert-manis
LOCATION: 2829 Rennoc Rd  Knoxville TN 37918
GEO:36.0313534;-83.9281914
END:VEVENT
END:VCALENDAR