BEGIN:VCALENDAR
VERSION:2.0
PRODID:-//Tukios.com/
BEGIN:VEVENT
UID:4d1b9b67-a690-4786-9bbd-5003008bac0b@www.mynattfh.com
DTSTAMP:20260422T185148Z
DTSTART:20260426T210000Z
DTEND:20260426T230000Z
SUMMARY:Visitation
DESCRIPTION:
URL:https://www.mynattfh.com/obituaries/albert-manis
LOCATION: 2829 Rennoc Rd  Knoxville TN 37918
GEO:36.0313534;-83.9281914
END:VEVENT
END:VCALENDAR